BEGIN:VCALENDAR
VERSION:2.0
PRODID:-//New Westminster Schools - District 40 - ECPv6.15.20//NONSGML v1.0//EN
CALSCALE:GREGORIAN
METHOD:PUBLISH
X-WR-CALNAME:New Westminster Schools - District 40
X-ORIGINAL-URL:https://newwestschools.ca
X-WR-CALDESC:Events for New Westminster Schools - District 40
REFRESH-INTERVAL;VALUE=DURATION:PT1H
X-Robots-Tag:noindex
X-PUBLISHED-TTL:PT1H
BEGIN:VTIMEZONE
TZID:America/Vancouver
BEGIN:DAYLIGHT
TZOFFSETFROM:-0800
TZOFFSETTO:-0700
TZNAME:PDT
DTSTART:20230312T100000
END:DAYLIGHT
BEGIN:STANDARD
TZOFFSETFROM:-0700
TZOFFSETTO:-0800
TZNAME:PST
DTSTART:20231105T090000
END:STANDARD
BEGIN:DAYLIGHT
TZOFFSETFROM:-0800
TZOFFSETTO:-0700
TZNAME:PDT
DTSTART:20240310T100000
END:DAYLIGHT
BEGIN:STANDARD
TZOFFSETFROM:-0700
TZOFFSETTO:-0800
TZNAME:PST
DTSTART:20241103T090000
END:STANDARD
BEGIN:DAYLIGHT
TZOFFSETFROM:-0800
TZOFFSETTO:-0700
TZNAME:PDT
DTSTART:20250309T100000
END:DAYLIGHT
BEGIN:STANDARD
TZOFFSETFROM:-0700
TZOFFSETTO:-0800
TZNAME:PST
DTSTART:20251102T090000
END:STANDARD
BEGIN:DAYLIGHT
TZOFFSETFROM:-0800
TZOFFSETTO:-0700
TZNAME:PDT
DTSTART:20260308T100000
END:DAYLIGHT
BEGIN:STANDARD
TZOFFSETFROM:-0700
TZOFFSETTO:-0800
TZNAME:PST
DTSTART:20261101T090000
END:STANDARD
BEGIN:DAYLIGHT
TZOFFSETFROM:-0800
TZOFFSETTO:-0700
TZNAME:PDT
DTSTART:20270314T100000
END:DAYLIGHT
BEGIN:STANDARD
TZOFFSETFROM:-0700
TZOFFSETTO:-0800
TZNAME:PST
DTSTART:20271107T090000
END:STANDARD
END:VTIMEZONE
BEGIN:VEVENT
DTSTART;TZID=America/Vancouver:20260526T180000
DTEND;TZID=America/Vancouver:20260526T210000
DTSTAMP:20260419T145218
CREATED:20250624T161542Z
LAST-MODIFIED:20250624T161543Z
UID:67772-1779818400-1779829200@newwestschools.ca
SUMMARY:May 26\, 2026 - School Board Meeting
DESCRIPTION:The May 26\, 2026\, board meeting will be held at the New Westminster School Board office as an in-person and virtual event (through Zoom). \n\n\n\nEnd times are tentative. \n\n\n\n\nAgenda (to be provided)\n\n\n\nZoom link (to be provided)
URL:https://newwestschools.ca/event/may-26-2026-school-board-meeting/
END:VEVENT
BEGIN:VEVENT
DTSTART;TZID=America/Vancouver:20260428T180000
DTEND;TZID=America/Vancouver:20260428T210000
DTSTAMP:20260419T145218
CREATED:20250624T161451Z
LAST-MODIFIED:20250624T161451Z
UID:67770-1777399200-1777410000@newwestschools.ca
SUMMARY:April 28\, 2026 - School Board Meeting
DESCRIPTION:The April 28\, 2026\, board meeting will be held at the New Westminster School Board office as an in-person and virtual event (through Zoom). \n\n\n\nEnd times are tentative. \n\n\n\n\nAgenda (to be provided)\n\n\n\nZoom link (to be provided)
URL:https://newwestschools.ca/event/april-28-2026-school-board-meeting/
END:VEVENT
BEGIN:VEVENT
DTSTART;TZID=America/Vancouver:20260310T180000
DTEND;TZID=America/Vancouver:20260310T210000
DTSTAMP:20260419T145218
CREATED:20250624T161403Z
LAST-MODIFIED:20260310T210319Z
UID:67768-1773165600-1773176400@newwestschools.ca
SUMMARY:March 10\, 2026 - School Board Meeting
DESCRIPTION:The March 10\, 2026\, board meeting will be held at the New Westminster School Board office as an in-person and virtual event (through Zoom). \n\n\n\nEnd times are tentative. \n\n\n\n\nAgenda \n\n\n\nZoom link
URL:https://newwestschools.ca/event/march-10-2026-school-board-meeting/
END:VEVENT
BEGIN:VEVENT
DTSTART;TZID=America/Vancouver:20260224T180000
DTEND;TZID=America/Vancouver:20260224T210000
DTSTAMP:20260419T145218
CREATED:20250624T161303Z
LAST-MODIFIED:20260224T220443Z
UID:67766-1771956000-1771966800@newwestschools.ca
SUMMARY:Feb. 24\, 2026 - School Board Meeting
DESCRIPTION:The February 24\, 2026\, board meeting will be held at the New Westminster School Board office as an in-person and virtual event (through Zoom). \n\n\n\nEnd times are tentative. \n\n\n\n\nAgenda\n\n\n\nZoom link
URL:https://newwestschools.ca/event/feb-24-2026-school-board-meeting/
END:VEVENT
BEGIN:VEVENT
DTSTART;TZID=America/Vancouver:20260127T180000
DTEND;TZID=America/Vancouver:20260127T210000
DTSTAMP:20260419T145218
CREATED:20250624T161159Z
LAST-MODIFIED:20260123T235518Z
UID:67764-1769536800-1769547600@newwestschools.ca
SUMMARY:Jan. 27\, 2026 - School Board Meeting
DESCRIPTION:The January 27\, 2026\, board meeting will be held at the New Westminster School Board office as an in-person and virtual event (through Zoom). \n\n\n\nEnd times are tentative. \n\n\n\n\nAgenda \n\n\n\nZoom link
URL:https://newwestschools.ca/event/jan-27-2026-school-board-meeting/
END:VEVENT
BEGIN:VEVENT
DTSTART;TZID=America/Vancouver:20251216T180000
DTEND;TZID=America/Vancouver:20251216T210000
DTSTAMP:20260419T145218
CREATED:20250624T160930Z
LAST-MODIFIED:20251212T224529Z
UID:67762-1765908000-1765918800@newwestschools.ca
SUMMARY:Dec. 16\, 2025 - School Board Meeting
DESCRIPTION:The December 16\, 2025\, board meeting will be held at the New Westminster School Board office as an in-person and virtual event (through Zoom). \n\n\n\nEnd times are tentative. \n\n\n\n\nAgenda\n\n\n\nZoom link
URL:https://newwestschools.ca/event/dec-16-2025-school-board-meeting/
END:VEVENT
BEGIN:VEVENT
DTSTART;TZID=America/Vancouver:20251125T180000
DTEND;TZID=America/Vancouver:20251125T210000
DTSTAMP:20260419T145218
CREATED:20250624T160839Z
LAST-MODIFIED:20251125T232756Z
UID:67760-1764093600-1764104400@newwestschools.ca
SUMMARY:Nov. 25\, 2025 - School Board Meeting
DESCRIPTION:The November 25\, 2025\, board meeting will be held at the New Westminster School Board office as an in-person and virtual event (through Zoom). \n\n\n\n\nZoom link \n\n\n\nAgenda
URL:https://newwestschools.ca/event/nov-25-2025-school-board-meeting/
END:VEVENT
BEGIN:VEVENT
DTSTART;TZID=America/Vancouver:20251028T180000
DTEND;TZID=America/Vancouver:20251028T210000
DTSTAMP:20260419T145218
CREATED:20250624T160737Z
LAST-MODIFIED:20251028T211843Z
UID:67758-1761674400-1761685200@newwestschools.ca
SUMMARY:Oct. 28\, 2025 - School Board Meeting
DESCRIPTION:The October 28\, 2025\, board meeting will be held at the New Westminster School Board office as an in-person and virtual event (through Zoom). \n\n\n\nEnd times are tentative. \n\n\n\n\nZoom link \n\n\n\nAgenda
URL:https://newwestschools.ca/event/oct-28-2025-school-board-meeting/
END:VEVENT
BEGIN:VEVENT
DTSTART;TZID=America/Vancouver:20250923T180000
DTEND;TZID=America/Vancouver:20250923T210000
DTSTAMP:20260419T145218
CREATED:20250624T150559Z
LAST-MODIFIED:20250923T215850Z
UID:67751-1758650400-1758661200@newwestschools.ca
SUMMARY:Sept. 23\, 2025 - School Board Meeting
DESCRIPTION:The September 23\, 2025\, board meeting will be held at the New Westminster School Board office as an in-person and virtual event (through Zoom). \n\n\n\nEnd times are tentative. \n\n\n\n\nZoom link \n\n\n\nAgenda
URL:https://newwestschools.ca/event/september-23-2025-school-board-meeting/
END:VEVENT
BEGIN:VEVENT
DTSTART;TZID=America/Vancouver:20250623T180000
DTEND;TZID=America/Vancouver:20250623T190000
DTSTAMP:20260419T145218
CREATED:20250203T180000Z
LAST-MODIFIED:20250609T144955Z
UID:65710-1750701600-1750705200@newwestschools.ca
SUMMARY:June 23\, 2025 - School Board Meeting
DESCRIPTION:The June 23\, 2025\, board meeting will be held at the New Westminster School Board office as an in-person and virtual event (through Zoom). \n\n\n\n\nZoom link (to be provided)\n\n\n\nAgenda (to be provided)
URL:https://newwestschools.ca/event/june-24-2025-school-board-meeting/
END:VEVENT
BEGIN:VEVENT
DTSTART;TZID=America/Vancouver:20250610T173000
DTEND;TZID=America/Vancouver:20250610T183000
DTSTAMP:20260419T145218
CREATED:20250513T213556Z
LAST-MODIFIED:20250606T204118Z
UID:67429-1749576600-1749580200@newwestschools.ca
SUMMARY:June 10\, 2025 - Committee of the Whole
DESCRIPTION:The June 10\, 2025\, board meeting will be held at the New Westminster School Board office as an in-person and virtual event (through Zoom). \n\n\n\n\nZoom link\n\n\n\nAgenda
URL:https://newwestschools.ca/event/june-10-2025-committee-of-the-whole/
END:VEVENT
BEGIN:VEVENT
DTSTART;TZID=America/Vancouver:20250603T180000
DTEND;TZID=America/Vancouver:20250603T190000
DTSTAMP:20260419T145218
CREATED:20250602T163749Z
LAST-MODIFIED:20250602T231136Z
UID:67530-1748973600-1748977200@newwestschools.ca
SUMMARY:June 3\, 2025 - Special School Board Meeting
DESCRIPTION:The June 3\, 2025\, special school board meeting will be held virtually through Zoom.
URL:https://newwestschools.ca/event/june-3-2025-special-school-board-meeting/
END:VEVENT
BEGIN:VEVENT
DTSTART;TZID=America/Vancouver:20250527T180000
DTEND;TZID=America/Vancouver:20250527T200000
DTSTAMP:20260419T145218
CREATED:20250203T180000Z
LAST-MODIFIED:20250527T144124Z
UID:65708-1748368800-1748376000@newwestschools.ca
SUMMARY:May 27\, 2025 - School Board Meeting
DESCRIPTION:The May 27\, 2025\, board meeting will be held at the New Westminster School Board office as an in-person and virtual event (through Zoom). \n\n\n\n\nZoom link \n\n\n\nAgenda
URL:https://newwestschools.ca/event/may-27-2025-school-board-meeting/
END:VEVENT
BEGIN:VEVENT
DTSTART;TZID=America/Vancouver:20250513T173000
DTEND;TZID=America/Vancouver:20250513T183000
DTSTAMP:20260419T145218
CREATED:20250512T202333Z
LAST-MODIFIED:20250512T202906Z
UID:67417-1747157400-1747161000@newwestschools.ca
SUMMARY:May 13\, 2025 - Committee of the Whole
DESCRIPTION:The May 13\, 2025\, board meeting will be held at the New Westminster School Board office as an in-person and virtual event (through Zoom). \n\n\n\n\nAgenda
URL:https://newwestschools.ca/event/may-13-2025-committee-of-the-whole/
END:VEVENT
BEGIN:VEVENT
DTSTART;TZID=America/Vancouver:20250505T163000
DTEND;TZID=America/Vancouver:20250505T173000
DTSTAMP:20260419T145218
CREATED:20250501T220556Z
LAST-MODIFIED:20250501T221544Z
UID:67315-1746462600-1746466200@newwestschools.ca
SUMMARY:May 5\, 2025 - School Board Meeting
DESCRIPTION:The May 5\, 2025\, board meeting will be held at the New Westminster School Board office as an in-person and virtual event (through Zoom). \n\n\n\n\nAgenda\n\n\n\n\n\nWatch on Zoom
URL:https://newwestschools.ca/event/special-open-board-meeting/
END:VEVENT
BEGIN:VEVENT
DTSTART;TZID=America/Vancouver:20250429T180000
DTEND;TZID=America/Vancouver:20250429T210000
DTSTAMP:20260419T145218
CREATED:20250203T175800Z
LAST-MODIFIED:20250430T010405Z
UID:65706-1745949600-1745960400@newwestschools.ca
SUMMARY:April 29\, 2025 - School Board Meeting
DESCRIPTION:The April 29\, 2025\, board meeting will be held at the New Westminster School Board office as an in-person and virtual event (through Zoom). \n\n\n\n\nAgenda
URL:https://newwestschools.ca/event/april-29-2025-school-board-meeting/
END:VEVENT
BEGIN:VEVENT
DTSTART;TZID=America/Vancouver:20250311T180000
DTEND;TZID=America/Vancouver:20250311T210000
DTSTAMP:20260419T145218
CREATED:20250203T180517Z
LAST-MODIFIED:20250313T183719Z
UID:65704-1741716000-1741726800@newwestschools.ca
SUMMARY:March 11\, 2025 - School Board Meeting
DESCRIPTION:The March 11\, 2025\, board meeting will be held at the New Westminster School Board office as an in-person and virtual event (through Zoom). \n\n\n\n\nZoom link \n\n\n\nAgenda
URL:https://newwestschools.ca/event/march-11-2025-school-board-meeting/
END:VEVENT
BEGIN:VEVENT
DTSTART;TZID=America/Vancouver:20250225T180000
DTEND;TZID=America/Vancouver:20250225T210000
DTSTAMP:20260419T145218
CREATED:20250203T180450Z
LAST-MODIFIED:20250221T232059Z
UID:65702-1740506400-1740517200@newwestschools.ca
SUMMARY:Feb. 25\, 2025 - School Board Meeting
DESCRIPTION:The February 25\, 2025\, board meeting will be held at the New Westminster School Board office as an in-person and virtual event (through Zoom). \n\n\n\n\nZoom link \n\n\n\nAgenda
URL:https://newwestschools.ca/event/feb-25-2025-school-board-meeting/
END:VEVENT
BEGIN:VEVENT
DTSTART;TZID=America/Vancouver:20250128T190000
DTEND;TZID=America/Vancouver:20250128T220000
DTSTAMP:20260419T145218
CREATED:20250124T131300Z
LAST-MODIFIED:20250125T011441Z
UID:65700-1738090800-1738101600@newwestschools.ca
SUMMARY:Jan. 28\, 2025 - School Board Meeting
DESCRIPTION:The January 28\, 2025\, board meeting will be held at the New Westminster School Board office as an in-person and virtual event (through Zoom). \n\n\n\n\nAgenda\n\n\n\nZoom link
URL:https://newwestschools.ca/event/jan-28-2025-school-board-meeting/
END:VEVENT
BEGIN:VEVENT
DTSTART;TZID=America/Vancouver:20250114T183000
DTEND;TZID=America/Vancouver:20250114T203000
DTSTAMP:20260419T145218
CREATED:20250110T205700Z
LAST-MODIFIED:20250110T211500Z
UID:66276-1736879400-1736886600@newwestschools.ca
SUMMARY:Operations Policy & Planning Committee Meeting
DESCRIPTION:In-Person & Via Zoom Link / Agenda
URL:https://newwestschools.ca/event/operations-policy-planning-committee-meeting/
END:VEVENT
BEGIN:VEVENT
DTSTART;TZID=America/Vancouver:20250114T163000
DTEND;TZID=America/Vancouver:20250114T180000
DTSTAMP:20260419T145218
CREATED:20250110T212700Z
LAST-MODIFIED:20250110T212708Z
UID:66274-1736872200-1736877600@newwestschools.ca
SUMMARY:Education Policy & Planning Committee Meeting
DESCRIPTION:In-Person at SBO / Agenda
URL:https://newwestschools.ca/event/education-policy-planning-committee-meeting/
END:VEVENT
BEGIN:VEVENT
DTSTART;TZID=America/Vancouver:20241217T190000
DTEND;TZID=America/Vancouver:20241217T220000
DTSTAMP:20260419T145218
CREATED:20241220T183100Z
LAST-MODIFIED:20241220T183119Z
UID:65482-1734462000-1734472800@newwestschools.ca
SUMMARY:Dec. 17\, 2024 - School Board Meeting
DESCRIPTION:Update: Board meeting will held virtually only. Please to not come to the Board Office for this meeting. \n\n\n\nVia Zoom Link / Agenda
URL:https://newwestschools.ca/event/dec-17-2024-school-board-meeting/
END:VEVENT
END:VCALENDAR