BEGIN:VCALENDAR
VERSION:2.0
PRODID:-//New Westminster Schools - District 40 - ECPv6.15.20//NONSGML v1.0//EN
CALSCALE:GREGORIAN
METHOD:PUBLISH
X-ORIGINAL-URL:https://newwestschools.ca
X-WR-CALDESC:Events for New Westminster Schools - District 40
REFRESH-INTERVAL;VALUE=DURATION:PT1H
X-Robots-Tag:noindex
X-PUBLISHED-TTL:PT1H
BEGIN:VTIMEZONE
TZID:America/Vancouver
BEGIN:DAYLIGHT
TZOFFSETFROM:-0800
TZOFFSETTO:-0700
TZNAME:PDT
DTSTART:20250309T100000
END:DAYLIGHT
BEGIN:STANDARD
TZOFFSETFROM:-0700
TZOFFSETTO:-0800
TZNAME:PST
DTSTART:20251102T090000
END:STANDARD
BEGIN:DAYLIGHT
TZOFFSETFROM:-0800
TZOFFSETTO:-0700
TZNAME:PDT
DTSTART:20260308T100000
END:DAYLIGHT
BEGIN:STANDARD
TZOFFSETFROM:-0700
TZOFFSETTO:-0800
TZNAME:PST
DTSTART:20261101T090000
END:STANDARD
BEGIN:DAYLIGHT
TZOFFSETFROM:-0800
TZOFFSETTO:-0700
TZNAME:PDT
DTSTART:20270314T100000
END:DAYLIGHT
BEGIN:STANDARD
TZOFFSETFROM:-0700
TZOFFSETTO:-0800
TZNAME:PST
DTSTART:20271107T090000
END:STANDARD
END:VTIMEZONE
BEGIN:VEVENT
DTSTART;TZID=America/Vancouver:20260428T180000
DTEND;TZID=America/Vancouver:20260428T210000
DTSTAMP:20260419T145120
CREATED:20250624T161451Z
LAST-MODIFIED:20250624T161451Z
UID:67770-1777399200-1777410000@newwestschools.ca
SUMMARY:April 28\, 2026 - School Board Meeting
DESCRIPTION:The April 28\, 2026\, board meeting will be held at the New Westminster School Board office as an in-person and virtual event (through Zoom). \n\n\n\nEnd times are tentative. \n\n\n\n\nAgenda (to be provided)\n\n\n\nZoom link (to be provided)
URL:https://newwestschools.ca/event/april-28-2026-school-board-meeting/
END:VEVENT
BEGIN:VEVENT
DTSTART;TZID=America/Vancouver:20260526T180000
DTEND;TZID=America/Vancouver:20260526T210000
DTSTAMP:20260419T145120
CREATED:20250624T161542Z
LAST-MODIFIED:20250624T161543Z
UID:67772-1779818400-1779829200@newwestschools.ca
SUMMARY:May 26\, 2026 - School Board Meeting
DESCRIPTION:The May 26\, 2026\, board meeting will be held at the New Westminster School Board office as an in-person and virtual event (through Zoom). \n\n\n\nEnd times are tentative. \n\n\n\n\nAgenda (to be provided)\n\n\n\nZoom link (to be provided)
URL:https://newwestschools.ca/event/may-26-2026-school-board-meeting/
END:VEVENT
BEGIN:VEVENT
DTSTART;TZID=America/Vancouver:20260616T180000
DTEND;TZID=America/Vancouver:20260616T210000
DTSTAMP:20260419T145120
CREATED:20250624T161635Z
LAST-MODIFIED:20250624T161636Z
UID:67774-1781632800-1781643600@newwestschools.ca
SUMMARY:June 16\, 2026 - School Board Meeting
DESCRIPTION:The June 16\, 2026\, board meeting will be held at the New Westminster School Board office as an in-person and virtual event (through Zoom). \n\n\n\nEnd times are tentative. \n\n\n\n\nAgenda (to be provided)\n\n\n\nZoom link (to be provided)
URL:https://newwestschools.ca/event/june-16-2026-school-board-meeting/
END:VEVENT
END:VCALENDAR