BEGIN:VCALENDAR
VERSION:2.0
PRODID:-//New Westminster Schools - District 40 - ECPv6.15.20//NONSGML v1.0//EN
CALSCALE:GREGORIAN
METHOD:PUBLISH
X-WR-CALNAME:New Westminster Schools - District 40
X-ORIGINAL-URL:https://newwestschools.ca
X-WR-CALDESC:Events for New Westminster Schools - District 40
REFRESH-INTERVAL;VALUE=DURATION:PT1H
X-Robots-Tag:noindex
X-PUBLISHED-TTL:PT1H
BEGIN:VTIMEZONE
TZID:America/Vancouver
BEGIN:DAYLIGHT
TZOFFSETFROM:-0800
TZOFFSETTO:-0700
TZNAME:PDT
DTSTART:20230312T100000
END:DAYLIGHT
BEGIN:STANDARD
TZOFFSETFROM:-0700
TZOFFSETTO:-0800
TZNAME:PST
DTSTART:20231105T090000
END:STANDARD
BEGIN:DAYLIGHT
TZOFFSETFROM:-0800
TZOFFSETTO:-0700
TZNAME:PDT
DTSTART:20240310T100000
END:DAYLIGHT
BEGIN:STANDARD
TZOFFSETFROM:-0700
TZOFFSETTO:-0800
TZNAME:PST
DTSTART:20241103T090000
END:STANDARD
BEGIN:DAYLIGHT
TZOFFSETFROM:-0800
TZOFFSETTO:-0700
TZNAME:PDT
DTSTART:20250309T100000
END:DAYLIGHT
BEGIN:STANDARD
TZOFFSETFROM:-0700
TZOFFSETTO:-0800
TZNAME:PST
DTSTART:20251102T090000
END:STANDARD
BEGIN:DAYLIGHT
TZOFFSETFROM:-0800
TZOFFSETTO:-0700
TZNAME:PDT
DTSTART:20260308T100000
END:DAYLIGHT
BEGIN:STANDARD
TZOFFSETFROM:-0700
TZOFFSETTO:-0800
TZNAME:PST
DTSTART:20261101T090000
END:STANDARD
END:VTIMEZONE
BEGIN:VEVENT
DTSTART;TZID=America/Vancouver:20250505T163000
DTEND;TZID=America/Vancouver:20250505T173000
DTSTAMP:20260419T163110
CREATED:20250501T220556Z
LAST-MODIFIED:20250501T221544Z
UID:67315-1746462600-1746466200@newwestschools.ca
SUMMARY:May 5\, 2025 - School Board Meeting
DESCRIPTION:The May 5\, 2025\, board meeting will be held at the New Westminster School Board office as an in-person and virtual event (through Zoom). \n\n\n\n\nAgenda\n\n\n\n\n\nWatch on Zoom
URL:https://newwestschools.ca/event/special-open-board-meeting/
END:VEVENT
BEGIN:VEVENT
DTSTART;TZID=America/Vancouver:20250429T180000
DTEND;TZID=America/Vancouver:20250429T210000
DTSTAMP:20260419T163110
CREATED:20250203T175800Z
LAST-MODIFIED:20250430T010405Z
UID:65706-1745949600-1745960400@newwestschools.ca
SUMMARY:April 29\, 2025 - School Board Meeting
DESCRIPTION:The April 29\, 2025\, board meeting will be held at the New Westminster School Board office as an in-person and virtual event (through Zoom). \n\n\n\n\nAgenda
URL:https://newwestschools.ca/event/april-29-2025-school-board-meeting/
END:VEVENT
BEGIN:VEVENT
DTSTART;TZID=America/Vancouver:20250311T180000
DTEND;TZID=America/Vancouver:20250311T210000
DTSTAMP:20260419T163110
CREATED:20250203T180517Z
LAST-MODIFIED:20250313T183719Z
UID:65704-1741716000-1741726800@newwestschools.ca
SUMMARY:March 11\, 2025 - School Board Meeting
DESCRIPTION:The March 11\, 2025\, board meeting will be held at the New Westminster School Board office as an in-person and virtual event (through Zoom). \n\n\n\n\nZoom link \n\n\n\nAgenda
URL:https://newwestschools.ca/event/march-11-2025-school-board-meeting/
END:VEVENT
BEGIN:VEVENT
DTSTART;TZID=America/Vancouver:20250225T180000
DTEND;TZID=America/Vancouver:20250225T210000
DTSTAMP:20260419T163110
CREATED:20250203T180450Z
LAST-MODIFIED:20250221T232059Z
UID:65702-1740506400-1740517200@newwestschools.ca
SUMMARY:Feb. 25\, 2025 - School Board Meeting
DESCRIPTION:The February 25\, 2025\, board meeting will be held at the New Westminster School Board office as an in-person and virtual event (through Zoom). \n\n\n\n\nZoom link \n\n\n\nAgenda
URL:https://newwestschools.ca/event/feb-25-2025-school-board-meeting/
END:VEVENT
BEGIN:VEVENT
DTSTART;TZID=America/Vancouver:20250128T190000
DTEND;TZID=America/Vancouver:20250128T220000
DTSTAMP:20260419T163110
CREATED:20250124T131300Z
LAST-MODIFIED:20250125T011441Z
UID:65700-1738090800-1738101600@newwestschools.ca
SUMMARY:Jan. 28\, 2025 - School Board Meeting
DESCRIPTION:The January 28\, 2025\, board meeting will be held at the New Westminster School Board office as an in-person and virtual event (through Zoom). \n\n\n\n\nAgenda\n\n\n\nZoom link
URL:https://newwestschools.ca/event/jan-28-2025-school-board-meeting/
END:VEVENT
BEGIN:VEVENT
DTSTART;TZID=America/Vancouver:20250114T183000
DTEND;TZID=America/Vancouver:20250114T203000
DTSTAMP:20260419T163110
CREATED:20250110T205700Z
LAST-MODIFIED:20250110T211500Z
UID:66276-1736879400-1736886600@newwestschools.ca
SUMMARY:Operations Policy & Planning Committee Meeting
DESCRIPTION:In-Person & Via Zoom Link / Agenda
URL:https://newwestschools.ca/event/operations-policy-planning-committee-meeting/
END:VEVENT
BEGIN:VEVENT
DTSTART;TZID=America/Vancouver:20250114T163000
DTEND;TZID=America/Vancouver:20250114T180000
DTSTAMP:20260419T163110
CREATED:20250110T212700Z
LAST-MODIFIED:20250110T212708Z
UID:66274-1736872200-1736877600@newwestschools.ca
SUMMARY:Education Policy & Planning Committee Meeting
DESCRIPTION:In-Person at SBO / Agenda
URL:https://newwestschools.ca/event/education-policy-planning-committee-meeting/
END:VEVENT
BEGIN:VEVENT
DTSTART;TZID=America/Vancouver:20241217T190000
DTEND;TZID=America/Vancouver:20241217T220000
DTSTAMP:20260419T163110
CREATED:20241220T183100Z
LAST-MODIFIED:20241220T183119Z
UID:65482-1734462000-1734472800@newwestschools.ca
SUMMARY:Dec. 17\, 2024 - School Board Meeting
DESCRIPTION:Update: Board meeting will held virtually only. Please to not come to the Board Office for this meeting. \n\n\n\nVia Zoom Link / Agenda
URL:https://newwestschools.ca/event/dec-17-2024-school-board-meeting/
END:VEVENT
END:VCALENDAR